BEGIN:VCALENDAR
VERSION:2.0
PRODID:https://www.kufer.de/kuferweb / DE
METHOD:PUBLISH
CALSCALE:GREGORIAN
X-WR-TIMEZONE:Europe/Berlin
BEGIN:VTIMEZONE
TZID:Europe/Berlin
X-LIC-LOCATION:Europe/Berlin
BEGIN:DAYLIGHT
TZOFFSETFROM:+0100
TZOFFSETTO:+0200
TZNAME:CEST
DTSTART:19700329T020000
RRULE:FREQ=YEARLY;INTERVAL=1;BYDAY=-1SU;BYMONTH=3
END:DAYLIGHT
BEGIN:STANDARD
TZOFFSETFROM:+0200
TZOFFSETTO:+0100
TZNAME:CET
DTSTART:19701025T030000
RRULE:FREQ=YEARLY;INTERVAL=1;BYDAY=-1SU;BYMONTH=10
END:STANDARD
END:VTIMEZONE
BEGIN:VEVENT
DTSTAMP:20260424T140430
DTSTART;TZID=Europe/Berlin:20260504T145000
DTEND;TZID=Europe/Berlin:20260504T155000
UID:261-G252B-20260504T145000@VHSDÄNISCHER WOHLD
SUMMARY:Kurs: Line Dance für Fortgeschrittene (261-G252B) 
LOCATION:Therapiezentrum Gettorf, , 
END:VEVENT
BEGIN:VEVENT
DTSTAMP:20260424T140430
DTSTART;TZID=Europe/Berlin:20260511T145000
DTEND;TZID=Europe/Berlin:20260511T155000
UID:261-G252B-20260511T145000@VHSDÄNISCHER WOHLD
SUMMARY:Kurs: Line Dance für Fortgeschrittene (261-G252B) 
LOCATION:Therapiezentrum Gettorf, , 
END:VEVENT
BEGIN:VEVENT
DTSTAMP:20260424T140430
DTSTART;TZID=Europe/Berlin:20260518T145000
DTEND;TZID=Europe/Berlin:20260518T155000
UID:261-G252B-20260518T145000@VHSDÄNISCHER WOHLD
SUMMARY:Kurs: Line Dance für Fortgeschrittene (261-G252B) 
LOCATION:Therapiezentrum Gettorf, , 
END:VEVENT
BEGIN:VEVENT
DTSTAMP:20260424T140430
DTSTART;TZID=Europe/Berlin:20260601T145000
DTEND;TZID=Europe/Berlin:20260601T155000
UID:261-G252B-20260601T145000@VHSDÄNISCHER WOHLD
SUMMARY:Kurs: Line Dance für Fortgeschrittene (261-G252B) 
LOCATION:Therapiezentrum Gettorf, , 
END:VEVENT
BEGIN:VEVENT
DTSTAMP:20260424T140430
DTSTART;TZID=Europe/Berlin:20260608T145000
DTEND;TZID=Europe/Berlin:20260608T155000
UID:261-G252B-20260608T145000@VHSDÄNISCHER WOHLD
SUMMARY:Kurs: Line Dance für Fortgeschrittene (261-G252B) 
LOCATION:Therapiezentrum Gettorf, , 
END:VEVENT
BEGIN:VEVENT
DTSTAMP:20260424T140430
DTSTART;TZID=Europe/Berlin:20260615T145000
DTEND;TZID=Europe/Berlin:20260615T155000
UID:261-G252B-20260615T145000@VHSDÄNISCHER WOHLD
SUMMARY:Kurs: Line Dance für Fortgeschrittene (261-G252B) 
LOCATION:Therapiezentrum Gettorf, , 
END:VEVENT
BEGIN:VEVENT
DTSTAMP:20260424T140430
DTSTART;TZID=Europe/Berlin:20260622T145000
DTEND;TZID=Europe/Berlin:20260622T155000
UID:261-G252B-20260622T145000@VHSDÄNISCHER WOHLD
SUMMARY:Kurs: Line Dance für Fortgeschrittene (261-G252B) 
LOCATION:Therapiezentrum Gettorf, , 
END:VEVENT
BEGIN:VEVENT
DTSTAMP:20260424T140430
DTSTART;TZID=Europe/Berlin:20260629T145000
DTEND;TZID=Europe/Berlin:20260629T155000
UID:261-G252B-20260629T145000@VHSDÄNISCHER WOHLD
SUMMARY:Kurs: Line Dance für Fortgeschrittene (261-G252B) 
LOCATION:Therapiezentrum Gettorf, , 
END:VEVENT
BEGIN:VEVENT
DTSTAMP:20260424T140430
DTSTART;TZID=Europe/Berlin:20260713T145000
DTEND;TZID=Europe/Berlin:20260713T155000
UID:261-G252B-20260713T145000@VHSDÄNISCHER WOHLD
SUMMARY:Kurs: Line Dance für Fortgeschrittene (261-G252B) 
LOCATION:Therapiezentrum Gettorf, , 
END:VEVENT
BEGIN:VEVENT
DTSTAMP:20260424T140430
DTSTART;TZID=Europe/Berlin:20260720T145000
DTEND;TZID=Europe/Berlin:20260720T155000
UID:261-G252B-20260720T145000@VHSDÄNISCHER WOHLD
SUMMARY:Kurs: Line Dance für Fortgeschrittene (261-G252B) 
LOCATION:Therapiezentrum Gettorf, , 
END:VEVENT
BEGIN:VEVENT
DTSTAMP:20260424T140430
DTSTART;TZID=Europe/Berlin:20260727T145000
DTEND;TZID=Europe/Berlin:20260727T155000
UID:261-G252B-20260727T145000@VHSDÄNISCHER WOHLD
SUMMARY:Kurs: Line Dance für Fortgeschrittene (261-G252B) 
LOCATION:Therapiezentrum Gettorf, , 
END:VEVENT
BEGIN:VEVENT
DTSTAMP:20260424T140430
DTSTART;TZID=Europe/Berlin:20260803T145000
DTEND;TZID=Europe/Berlin:20260803T155000
UID:261-G252B-20260803T145000@VHSDÄNISCHER WOHLD
SUMMARY:Kurs: Line Dance für Fortgeschrittene (261-G252B) 
LOCATION:Therapiezentrum Gettorf, , 
END:VEVENT
BEGIN:VEVENT
DTSTAMP:20260424T140430
DTSTART;TZID=Europe/Berlin:20260810T145000
DTEND;TZID=Europe/Berlin:20260810T155000
UID:261-G252B-20260810T145000@VHSDÄNISCHER WOHLD
SUMMARY:Kurs: Line Dance für Fortgeschrittene (261-G252B) 
LOCATION:Therapiezentrum Gettorf, , 
END:VEVENT
BEGIN:VEVENT
DTSTAMP:20260424T140430
DTSTART;TZID=Europe/Berlin:20260817T145000
DTEND;TZID=Europe/Berlin:20260817T155000
UID:261-G252B-20260817T145000@VHSDÄNISCHER WOHLD
SUMMARY:Kurs: Line Dance für Fortgeschrittene (261-G252B) 
LOCATION:Therapiezentrum Gettorf, , 
END:VEVENT
BEGIN:VEVENT
DTSTAMP:20260424T140430
DTSTART;TZID=Europe/Berlin:20260824T145000
DTEND;TZID=Europe/Berlin:20260824T155000
UID:261-G252B-20260824T145000@VHSDÄNISCHER WOHLD
SUMMARY:Kurs: Line Dance für Fortgeschrittene (261-G252B) 
LOCATION:Therapiezentrum Gettorf, , 
END:VEVENT
BEGIN:VEVENT
DTSTAMP:20260424T140430
DTSTART;TZID=Europe/Berlin:20260831T145000
DTEND;TZID=Europe/Berlin:20260831T155000
UID:261-G252B-20260831T145000@VHSDÄNISCHER WOHLD
SUMMARY:Kurs: Line Dance für Fortgeschrittene (261-G252B) 
LOCATION:Therapiezentrum Gettorf, , 
END:VEVENT
BEGIN:VEVENT
DTSTAMP:20260424T140430
DTSTART;TZID=Europe/Berlin:20260907T145000
DTEND;TZID=Europe/Berlin:20260907T155000
UID:261-G252B-20260907T145000@VHSDÄNISCHER WOHLD
SUMMARY:Kurs: Line Dance für Fortgeschrittene (261-G252B) 
LOCATION:Therapiezentrum Gettorf, , 
END:VEVENT
END:VCALENDAR