BEGIN:VCALENDAR
VERSION:2.0
PRODID:https://www.kufer.de/kuferweb / DE
METHOD:PUBLISH
CALSCALE:GREGORIAN
X-WR-TIMEZONE:Europe/Berlin
BEGIN:VTIMEZONE
TZID:Europe/Berlin
X-LIC-LOCATION:Europe/Berlin
BEGIN:DAYLIGHT
TZOFFSETFROM:+0100
TZOFFSETTO:+0200
TZNAME:CEST
DTSTART:19700329T020000
RRULE:FREQ=YEARLY;INTERVAL=1;BYDAY=-1SU;BYMONTH=3
END:DAYLIGHT
BEGIN:STANDARD
TZOFFSETFROM:+0200
TZOFFSETTO:+0100
TZNAME:CET
DTSTART:19701025T030000
RRULE:FREQ=YEARLY;INTERVAL=1;BYDAY=-1SU;BYMONTH=10
END:STANDARD
END:VTIMEZONE
BEGIN:VEVENT
DTSTAMP:20260419T152556
DTSTART;TZID=Europe/Berlin:20260416T153000
DTEND;TZID=Europe/Berlin:20260416T161500
UID:261-G706B-20260416T153000@VHSDÄNISCHER WOHLD
SUMMARY:Kurs: Musikwichtel (ca. 1½ bis 5 Jahre) (261-G706B) 
LOCATION:vhs Kursgebäude, Raum 1, Triangel 4, 24214 Gettorf
END:VEVENT
BEGIN:VEVENT
DTSTAMP:20260419T152556
DTSTART;TZID=Europe/Berlin:20260423T153000
DTEND;TZID=Europe/Berlin:20260423T161500
UID:261-G706B-20260423T153000@VHSDÄNISCHER WOHLD
SUMMARY:Kurs: Musikwichtel (ca. 1½ bis 5 Jahre) (261-G706B) 
LOCATION:vhs Kursgebäude, Raum 1, Triangel 4, 24214 Gettorf
END:VEVENT
BEGIN:VEVENT
DTSTAMP:20260419T152556
DTSTART;TZID=Europe/Berlin:20260430T153000
DTEND;TZID=Europe/Berlin:20260430T161500
UID:261-G706B-20260430T153000@VHSDÄNISCHER WOHLD
SUMMARY:Kurs: Musikwichtel (ca. 1½ bis 5 Jahre) (261-G706B) 
LOCATION:vhs Kursgebäude, Raum 1, Triangel 4, 24214 Gettorf
END:VEVENT
BEGIN:VEVENT
DTSTAMP:20260419T152556
DTSTART;TZID=Europe/Berlin:20260507T153000
DTEND;TZID=Europe/Berlin:20260507T161500
UID:261-G706B-20260507T153000@VHSDÄNISCHER WOHLD
SUMMARY:Kurs: Musikwichtel (ca. 1½ bis 5 Jahre) (261-G706B) 
LOCATION:vhs Kursgebäude, Raum 1, Triangel 4, 24214 Gettorf
END:VEVENT
BEGIN:VEVENT
DTSTAMP:20260419T152556
DTSTART;TZID=Europe/Berlin:20260521T153000
DTEND;TZID=Europe/Berlin:20260521T161500
UID:261-G706B-20260521T153000@VHSDÄNISCHER WOHLD
SUMMARY:Kurs: Musikwichtel (ca. 1½ bis 5 Jahre) (261-G706B) 
LOCATION:vhs Kursgebäude, Raum 1, Triangel 4, 24214 Gettorf
END:VEVENT
END:VCALENDAR