BEGIN:VCALENDAR
VERSION:2.0
PRODID:https://www.kufer.de/kuferweb / DE
METHOD:PUBLISH
CALSCALE:GREGORIAN
X-WR-TIMEZONE:Europe/Berlin
BEGIN:VTIMEZONE
TZID:Europe/Berlin
X-LIC-LOCATION:Europe/Berlin
BEGIN:DAYLIGHT
TZOFFSETFROM:+0100
TZOFFSETTO:+0200
TZNAME:CEST
DTSTART:19700329T020000
RRULE:FREQ=YEARLY;INTERVAL=1;BYDAY=-1SU;BYMONTH=3
END:DAYLIGHT
BEGIN:STANDARD
TZOFFSETFROM:+0200
TZOFFSETTO:+0100
TZNAME:CET
DTSTART:19701025T030000
RRULE:FREQ=YEARLY;INTERVAL=1;BYDAY=-1SU;BYMONTH=10
END:STANDARD
END:VTIMEZONE
BEGIN:VEVENT
DTSTAMP:20260421T162840
DTSTART;TZID=Europe/Berlin:20260412T173000
DTEND;TZID=Europe/Berlin:20260412T183000
UID:261-S327B-20260412T173000@VHSDÄNISCHER WOHLD
SUMMARY:Kurs: Zumba® Fitness (261-S327B) 
LOCATION:Grundschule Surendorf Sporthalle, An der Schule 11, 24229 Schwedeneck
END:VEVENT
BEGIN:VEVENT
DTSTAMP:20260421T162840
DTSTART;TZID=Europe/Berlin:20260419T173000
DTEND;TZID=Europe/Berlin:20260419T183000
UID:261-S327B-20260419T173000@VHSDÄNISCHER WOHLD
SUMMARY:Kurs: Zumba® Fitness (261-S327B) 
LOCATION:Grundschule Surendorf Sporthalle, An der Schule 11, 24229 Schwedeneck
END:VEVENT
BEGIN:VEVENT
DTSTAMP:20260421T162840
DTSTART;TZID=Europe/Berlin:20260426T173000
DTEND;TZID=Europe/Berlin:20260426T183000
UID:261-S327B-20260426T173000@VHSDÄNISCHER WOHLD
SUMMARY:Kurs: Zumba® Fitness (261-S327B) 
LOCATION:Grundschule Surendorf Sporthalle, An der Schule 11, 24229 Schwedeneck
END:VEVENT
BEGIN:VEVENT
DTSTAMP:20260421T162840
DTSTART;TZID=Europe/Berlin:20260503T173000
DTEND;TZID=Europe/Berlin:20260503T183000
UID:261-S327B-20260503T173000@VHSDÄNISCHER WOHLD
SUMMARY:Kurs: Zumba® Fitness (261-S327B) 
LOCATION:Grundschule Surendorf Sporthalle, An der Schule 11, 24229 Schwedeneck
END:VEVENT
BEGIN:VEVENT
DTSTAMP:20260421T162840
DTSTART;TZID=Europe/Berlin:20260510T173000
DTEND;TZID=Europe/Berlin:20260510T183000
UID:261-S327B-20260510T173000@VHSDÄNISCHER WOHLD
SUMMARY:Kurs: Zumba® Fitness (261-S327B) 
LOCATION:Grundschule Surendorf Sporthalle, An der Schule 11, 24229 Schwedeneck
END:VEVENT
BEGIN:VEVENT
DTSTAMP:20260421T162840
DTSTART;TZID=Europe/Berlin:20260517T173000
DTEND;TZID=Europe/Berlin:20260517T183000
UID:261-S327B-20260517T173000@VHSDÄNISCHER WOHLD
SUMMARY:Kurs: Zumba® Fitness (261-S327B) 
LOCATION:Grundschule Surendorf Sporthalle, An der Schule 11, 24229 Schwedeneck
END:VEVENT
BEGIN:VEVENT
DTSTAMP:20260421T162840
DTSTART;TZID=Europe/Berlin:20260531T173000
DTEND;TZID=Europe/Berlin:20260531T183000
UID:261-S327B-20260531T173000@VHSDÄNISCHER WOHLD
SUMMARY:Kurs: Zumba® Fitness (261-S327B) 
LOCATION:Grundschule Surendorf Sporthalle, An der Schule 11, 24229 Schwedeneck
END:VEVENT
BEGIN:VEVENT
DTSTAMP:20260421T162840
DTSTART;TZID=Europe/Berlin:20260607T173000
DTEND;TZID=Europe/Berlin:20260607T183000
UID:261-S327B-20260607T173000@VHSDÄNISCHER WOHLD
SUMMARY:Kurs: Zumba® Fitness (261-S327B) 
LOCATION:Grundschule Surendorf Sporthalle, An der Schule 11, 24229 Schwedeneck
END:VEVENT
BEGIN:VEVENT
DTSTAMP:20260421T162840
DTSTART;TZID=Europe/Berlin:20260614T173000
DTEND;TZID=Europe/Berlin:20260614T183000
UID:261-S327B-20260614T173000@VHSDÄNISCHER WOHLD
SUMMARY:Kurs: Zumba® Fitness (261-S327B) 
LOCATION:Grundschule Surendorf Sporthalle, An der Schule 11, 24229 Schwedeneck
END:VEVENT
BEGIN:VEVENT
DTSTAMP:20260421T162840
DTSTART;TZID=Europe/Berlin:20260621T173000
DTEND;TZID=Europe/Berlin:20260621T183000
UID:261-S327B-20260621T173000@VHSDÄNISCHER WOHLD
SUMMARY:Kurs: Zumba® Fitness (261-S327B) 
LOCATION:Grundschule Surendorf Sporthalle, An der Schule 11, 24229 Schwedeneck
END:VEVENT
BEGIN:VEVENT
DTSTAMP:20260421T162840
DTSTART;TZID=Europe/Berlin:20260628T173000
DTEND;TZID=Europe/Berlin:20260628T183000
UID:261-S327B-20260628T173000@VHSDÄNISCHER WOHLD
SUMMARY:Kurs: Zumba® Fitness (261-S327B) 
LOCATION:Grundschule Surendorf Sporthalle, An der Schule 11, 24229 Schwedeneck
END:VEVENT
END:VCALENDAR