BEGIN:VCALENDAR
VERSION:2.0
PRODID:https://www.kufer.de/kuferweb / DE
METHOD:PUBLISH
CALSCALE:GREGORIAN
X-WR-TIMEZONE:Europe/Berlin
BEGIN:VTIMEZONE
TZID:Europe/Berlin
X-LIC-LOCATION:Europe/Berlin
BEGIN:DAYLIGHT
TZOFFSETFROM:+0100
TZOFFSETTO:+0200
TZNAME:CEST
DTSTART:19700329T020000
RRULE:FREQ=YEARLY;INTERVAL=1;BYDAY=-1SU;BYMONTH=3
END:DAYLIGHT
BEGIN:STANDARD
TZOFFSETFROM:+0200
TZOFFSETTO:+0100
TZNAME:CET
DTSTART:19701025T030000
RRULE:FREQ=YEARLY;INTERVAL=1;BYDAY=-1SU;BYMONTH=10
END:STANDARD
END:VTIMEZONE
BEGIN:VEVENT
DTSTAMP:20260419T152508
DTSTART;TZID=Europe/Berlin:20260414T153000
DTEND;TZID=Europe/Berlin:20260414T161500
UID:261-S701B-20260414T153000@VHSDÄNISCHER WOHLD
SUMMARY:Kurs: TanzKrümel mit Steph (ca. 1½ bis 5 Jahre) (261-S701B) 
LOCATION:Grundschule Surendorf Musikraum, An der Schule 11, 24229 Schwedeneck
END:VEVENT
BEGIN:VEVENT
DTSTAMP:20260419T152508
DTSTART;TZID=Europe/Berlin:20260421T153000
DTEND;TZID=Europe/Berlin:20260421T161500
UID:261-S701B-20260421T153000@VHSDÄNISCHER WOHLD
SUMMARY:Kurs: TanzKrümel mit Steph (ca. 1½ bis 5 Jahre) (261-S701B) 
LOCATION:Grundschule Surendorf Musikraum, An der Schule 11, 24229 Schwedeneck
END:VEVENT
BEGIN:VEVENT
DTSTAMP:20260419T152508
DTSTART;TZID=Europe/Berlin:20260428T153000
DTEND;TZID=Europe/Berlin:20260428T161500
UID:261-S701B-20260428T153000@VHSDÄNISCHER WOHLD
SUMMARY:Kurs: TanzKrümel mit Steph (ca. 1½ bis 5 Jahre) (261-S701B) 
LOCATION:Grundschule Surendorf Musikraum, An der Schule 11, 24229 Schwedeneck
END:VEVENT
BEGIN:VEVENT
DTSTAMP:20260419T152508
DTSTART;TZID=Europe/Berlin:20260505T153000
DTEND;TZID=Europe/Berlin:20260505T161500
UID:261-S701B-20260505T153000@VHSDÄNISCHER WOHLD
SUMMARY:Kurs: TanzKrümel mit Steph (ca. 1½ bis 5 Jahre) (261-S701B) 
LOCATION:Grundschule Surendorf Musikraum, An der Schule 11, 24229 Schwedeneck
END:VEVENT
BEGIN:VEVENT
DTSTAMP:20260419T152508
DTSTART;TZID=Europe/Berlin:20260512T153000
DTEND;TZID=Europe/Berlin:20260512T161500
UID:261-S701B-20260512T153000@VHSDÄNISCHER WOHLD
SUMMARY:Kurs: TanzKrümel mit Steph (ca. 1½ bis 5 Jahre) (261-S701B) 
LOCATION:Grundschule Surendorf Musikraum, An der Schule 11, 24229 Schwedeneck
END:VEVENT
BEGIN:VEVENT
DTSTAMP:20260419T152508
DTSTART;TZID=Europe/Berlin:20260519T153000
DTEND;TZID=Europe/Berlin:20260519T161500
UID:261-S701B-20260519T153000@VHSDÄNISCHER WOHLD
SUMMARY:Kurs: TanzKrümel mit Steph (ca. 1½ bis 5 Jahre) (261-S701B) 
LOCATION:Grundschule Surendorf Musikraum, An der Schule 11, 24229 Schwedeneck
END:VEVENT
BEGIN:VEVENT
DTSTAMP:20260419T152508
DTSTART;TZID=Europe/Berlin:20260526T153000
DTEND;TZID=Europe/Berlin:20260526T161500
UID:261-S701B-20260526T153000@VHSDÄNISCHER WOHLD
SUMMARY:Kurs: TanzKrümel mit Steph (ca. 1½ bis 5 Jahre) (261-S701B) 
LOCATION:Grundschule Surendorf Musikraum, An der Schule 11, 24229 Schwedeneck
END:VEVENT
BEGIN:VEVENT
DTSTAMP:20260419T152508
DTSTART;TZID=Europe/Berlin:20260602T153000
DTEND;TZID=Europe/Berlin:20260602T161500
UID:261-S701B-20260602T153000@VHSDÄNISCHER WOHLD
SUMMARY:Kurs: TanzKrümel mit Steph (ca. 1½ bis 5 Jahre) (261-S701B) 
LOCATION:Grundschule Surendorf Musikraum, An der Schule 11, 24229 Schwedeneck
END:VEVENT
BEGIN:VEVENT
DTSTAMP:20260419T152508
DTSTART;TZID=Europe/Berlin:20260616T153000
DTEND;TZID=Europe/Berlin:20260616T161500
UID:261-S701B-20260616T153000@VHSDÄNISCHER WOHLD
SUMMARY:Kurs: TanzKrümel mit Steph (ca. 1½ bis 5 Jahre) (261-S701B) 
LOCATION:Grundschule Surendorf Musikraum, An der Schule 11, 24229 Schwedeneck
END:VEVENT
BEGIN:VEVENT
DTSTAMP:20260419T152508
DTSTART;TZID=Europe/Berlin:20260623T153000
DTEND;TZID=Europe/Berlin:20260623T161500
UID:261-S701B-20260623T153000@VHSDÄNISCHER WOHLD
SUMMARY:Kurs: TanzKrümel mit Steph (ca. 1½ bis 5 Jahre) (261-S701B) 
LOCATION:Grundschule Surendorf Musikraum, An der Schule 11, 24229 Schwedeneck
END:VEVENT
BEGIN:VEVENT
DTSTAMP:20260419T152508
DTSTART;TZID=Europe/Berlin:20260630T153000
DTEND;TZID=Europe/Berlin:20260630T161500
UID:261-S701B-20260630T153000@VHSDÄNISCHER WOHLD
SUMMARY:Kurs: TanzKrümel mit Steph (ca. 1½ bis 5 Jahre) (261-S701B) 
LOCATION:Grundschule Surendorf Musikraum, An der Schule 11, 24229 Schwedeneck
END:VEVENT
END:VCALENDAR